BEGIN:VCALENDAR
VERSION:2.0
PRODID:-//wp-events-plugin.com//6.6.4.4//EN
TZID:Europe/Berlin
X-WR-TIMEZONE:Europe/Berlin
BEGIN:VEVENT
UID:565@garten-pflanzen.info
DTSTART;TZID=Europe/Berlin:20250501T100000
DTEND;TZID=Europe/Berlin:20250504T180000
DTSTAMP:20241217T064129Z
URL:https://www.garten-pflanzen.info/veranstaltungen/blumen-ambiente/
SUMMARY:Blumen & Ambiente
DESCRIPTION:Besuchen Sie vom 01.05.2025 bis 04.05.2025 das Landgut Wienhaus
 en in Wienhausen für die Veranstaltung "Blumen &amp\; Ambiente". Mehr Inf
 ormationen finden Sie hier.\nParkplätze:\nEs stehen ausreichend Parkplät
 ze in unmittelbarer Nähe zum Veranstaltungsgelände zur Verfügung. Folge
 n Sie einfach dem Parkleitsystem in Wienhausen.\nBehindertengerechte Parkp
 lätze / WC / Gelände:\nBehindertengerechte Parkplätze sind direkt neben
  den Kassen verfügbar.\nEin behindertengerechtes WC ist vorhanden.\nDas G
 elände ist grundsätzlich mit dem Rollstuhl befahrbar\, aber bedenken Sie
 \, dass es sich um eine Außenveranstaltung im Park handelt. Nicht überal
 l stehen befestigte Wege zur Verfügung.\nHunde:\nHunde sind auf dem Auße
 ngelände erlaubt.
CATEGORIES:Blumen- und Pflanzenschauen
LOCATION:Landgut Wienhausen\, 29342 Wienhausen\, Wienhausen\, 29342\, Deuts
 chland
GEO:52.6347;10.1847
X-APPLE-STRUCTURED-LOCATION;VALUE=URI;X-ADDRESS=29342 Wienhausen\, Wienhaus
 en\, 29342\, Deutschland;X-APPLE-RADIUS=100;X-TITLE=Landgut Wienhausen:geo
 :52.6347,10.1847
END:VEVENT
BEGIN:VTIMEZONE
TZID:Europe/Berlin
X-LIC-LOCATION:Europe/Berlin
BEGIN:DAYLIGHT
DTSTART:20250330T030000
TZOFFSETFROM:+0100
TZOFFSETTO:+0200
TZNAME:CEST
END:DAYLIGHT
END:VTIMEZONE
END:VCALENDAR